BEGIN:VCALENDAR
PRODID:-//Det Danske Spejderkorps//NONSGML Gruppeweb//EN
VERSION:2.0
CALSCALE:GREGORIAN
X-PUBLISHED-TTL:PT1H
X-WR-CALNAME:Klan Klassik
METHOD:PUBLISH
BEGIN:VEVENT
UID:gruppeweb.dk:3319:event:64
DTSTAMP:20260423T084027Z
LAST-MODIFIED:20250412T085812Z
SUMMARY:Arbejdsdag på Niløse 🌱
DESCRIPTION:Se facebook gruppen for mere information\n\n
URL:https://klanklassik.dk/begivenhed/arbejdsdag-paa-niloese
DTSTART;VALUE=DATE:20250510
LOCATION:Klan Klassik\, Holmevejen 4\, 4293 Dianalund
END:VEVENT
BEGIN:VEVENT
UID:gruppeweb.dk:3319:event:55
DTSTAMP:20260423T084027Z
LAST-MODIFIED:20250301T091906Z
SUMMARY:Hjælper på Roskilde Dyrskue
DESCRIPTION:Læs mere i vores Facebook gruppe\n\n
URL:https://klanklassik.dk/begivenhed/hjaelper-paa-roskilde-dyrskue-0
DTSTART;VALUE=DATE:20250530
DTEND;VALUE=DATE:20250602
LOCATION:Klan Klassik\, Holmevejen 4\, 4293 Dianalund
END:VEVENT
BEGIN:VEVENT
UID:gruppeweb.dk:3319:event:54
DTSTAMP:20260423T084027Z
LAST-MODIFIED:20250301T091602Z
SUMMARY:Hjælper på Roskilde Dyrskue
DESCRIPTION:Læs mere i vores Facebook gruppe\n\n
URL:https://klanklassik.dk/begivenhed/hjaelper-paa-roskilde-dyrskue
DTSTART;VALUE=DATE:20250605
LOCATION:Klan Klassik\, Holmevejen 4\, 4293 Dianalund
END:VEVENT
BEGIN:VEVENT
UID:gruppeweb.dk:3319:event:53
DTSTAMP:20260423T084027Z
LAST-MODIFIED:20260213T110104Z
SUMMARY:Sommerlejr 2025
DESCRIPTION:Klan Klassik skal på sommerlejr\, og du skal med!\n\nTuren gå
 r til Nordsjælland (nærmere lokation følger).\nTag med på en uge spæk
 ket med aktiviteter med strejf af nyt og klassisk\,  \nvådt og tørt\, lu
 ksus og primitivt.\nDen officielle invitation samt mere information følge
 r.\nAlt du skal gøre nu er at tilmelde dig og glæde dig til en fed uge!\
 n\nVi ses!\n\n
URL:https://klanklassik.dk/begivenhed/sommerlejr-2025
DTSTART:20250707T080000Z
DTEND:20250713T120000Z
LOCATION:Nordsjælland
END:VEVENT
BEGIN:VEVENT
UID:gruppeweb.dk:3319:event:67
DTSTAMP:20260423T084027Z
LAST-MODIFIED:20250615T115921Z
SUMMARY:Opstartsmøde efter sommerferien
DESCRIPTION:\n
URL:https://klanklassik.dk/begivenhed/opstartsmoede-efter-sommerferien
DTSTART;VALUE=DATE:20250818
LOCATION:Klan Klassik\, Holmevejen 4\, 4293 Dianalund
END:VEVENT
BEGIN:VEVENT
UID:gruppeweb.dk:3319:event:69
DTSTAMP:20260423T084027Z
LAST-MODIFIED:20250615T121147Z
SUMMARY:Styregruppemøde
DESCRIPTION:\n
URL:https://klanklassik.dk/begivenhed/styregruppemoede
DTSTART:20250904T170000Z
DTEND:20250904T190000Z
LOCATION:Sorø Hallen\, Ringstedvej 20\, 4180 Sorø
END:VEVENT
BEGIN:VEVENT
UID:gruppeweb.dk:3319:event:70
DTSTAMP:20260423T084027Z
LAST-MODIFIED:20250615T120758Z
SUMMARY:Ibs rejse - Ib i skoven
DESCRIPTION:\n
URL:https://klanklassik.dk/begivenhed/ibs-rejse-ib-i-skoven
DTSTART;VALUE=DATE:20250920
LOCATION:Klan Klassik\, Holmevejen 4\, 4293 Dianalund
END:VEVENT
BEGIN:VEVENT
UID:gruppeweb.dk:3319:event:73
DTSTAMP:20260423T084027Z
LAST-MODIFIED:20260213T110036Z
SUMMARY:Blåt lederspor med Klan Klassik
DESCRIPTION:Fra den officielle invitation\, opdateret med Klan Klassik ænd
 ringer: \n\n\nInvitation til alle ledere og seniorer!\n\n⌚ Dato og tid 
 : Lørdag d. 27/9 kl. 10.00 til søndag d. 28/9 kl.10.00\n\n📍 Mødested
 : Kløverhuset\, Teglværksvej 11\, 4200 Slagelse\n\n🏁 Slutlokation: KF
 UM-Spejderne\, Thorvaldsensvej 21\, 4200 Slagelse\n\nKom og vær med på e
 n spændende rejse gennem de\n\nforskellige spejdergrene.\n\nHusk at medbr
 inge:\n\n• Masser af godt humør (det vigtigste af alt!)\n\n• Madpakke
  og drikkedunk til frokost lørdag\n\n• Uniform - så vi kan være synli
 ge i bybilledet\n\n• Sovepose og liggeunderlag\n\n• Evt. telt/biuak\, 
 hvis du ikke ønsker at overnatte indendørs i  \nfællesrum\n\n• Toilet
 grej\n\nPris: 80 kr.\n\n⏰ Sidste frist for tilmelding: 17. september 202
 5\n\n\nVi glæder os til at se jer alle sammen!\n\n
URL:https://klanklassik.dk/begivenhed/blaat-lederspor-med-klan-klassik
DTSTART:20250927T080000Z
DTEND:20250928T080000Z
LOCATION:Klan Klassik\, Holmevejen 4\, 4293 Dianalund
END:VEVENT
BEGIN:VEVENT
UID:gruppeweb.dk:3319:event:74
DTSTAMP:20260423T084027Z
LAST-MODIFIED:20250925T174747Z
SUMMARY:Vækstaften med Antvorskov Division
DESCRIPTION:Tilmelding her: https://medlem.dds.dk/event/id/63579/register 
 [1]\n\n\n[1] https://medlem.dds.dk/event/id/63579/register\n
URL:https://klanklassik.dk/begivenhed/vaekstaften-med-antvorskov-division
DTSTART:20251023T153000Z
DTEND:20251023T190000Z
LOCATION:Kløverhuset\, Teglværksvej 11\, 4200 Slagelse
END:VEVENT
BEGIN:VEVENT
UID:gruppeweb.dk:3319:event:71
DTSTAMP:20260423T084027Z
LAST-MODIFIED:20250615T120807Z
SUMMARY:Plantedag på Spejd Niløse
DESCRIPTION:\n
URL:https://klanklassik.dk/begivenhed/plantedag-paa-spejd-niloese
DTSTART;VALUE=DATE:20251101
LOCATION:Klan Klassik\, Holmevejen 4\, 4293 Dianalund
END:VEVENT
BEGIN:VEVENT
UID:gruppeweb.dk:3319:event:77
DTSTAMP:20260423T084027Z
LAST-MODIFIED:20251102T103042Z
SUMMARY:Vækstaften i Klan Klassik
DESCRIPTION:Læs mere og tilmeld dig via Facebook begivenheden  \n: https:
 //fb.me/e/69M9rfgTD [1]\n\n\n[1] https://fb.me/e/69M9rfgTD\n
URL:https://klanklassik.dk/begivenhed/vaekstaften-i-klan-klassik
DTSTART:20251111T180000Z
DTEND:20251111T200000Z
LOCATION:Sorø Hallen\, Ringstedvej 20\, 4180 Sorø
END:VEVENT
BEGIN:VEVENT
UID:gruppeweb.dk:3319:event:76
DTSTAMP:20260423T084027Z
LAST-MODIFIED:20251102T085209Z
SUMMARY:Spejdergildehal i Sorø
DESCRIPTION:Programmet for aftenen:\n\n18:30-19:00 Vandre gildehal (Ankomst
  og sig hej til deltagerne)\n19:00 Spejdergildehal (Møde i gildesalen)\nE
 fterfølgende: Eftergildehal med spisning.\n\nArrangementet er gratis for 
 alle spejderledere i Sorø og Klan Klassik.\n\nKom og deltag i en hyggelig
  aften\n\n
URL:https://klanklassik.dk/begivenhed/spejdergildehal-i-soroe
DTSTART:20251120T173000Z
DTEND:20251120T200000Z
LOCATION:Gildehytten Sorø\, Møllevej 6A\, 4180 Sorø
END:VEVENT
BEGIN:VEVENT
UID:gruppeweb.dk:3319:event:78
DTSTAMP:20260423T084027Z
LAST-MODIFIED:20251122T165552Z
SUMMARY:Klan Klassik Løbet 2026 Kick-off
DESCRIPTION:\n
URL:https://klanklassik.dk/begivenhed/klan-klassik-loebet-2026-kick
DTSTART:20251126T173000Z
DTEND:20251126T200000Z
LOCATION:Sorø Hallen\, Ringstedvej 20\, 4180 Sorø
END:VEVENT
BEGIN:VEVENT
UID:gruppeweb.dk:3319:event:79
DTSTAMP:20260423T084027Z
LAST-MODIFIED:20260213T110023Z
SUMMARY:Nytårstaffel 2026
DESCRIPTION: Til alle ledere\, seniorer\, bestyrelsesmedlemmer og hyttefol
 k.\nI inviteres til Nytårstaffel 2026!  Lørdag d.10. januar 2026 kl. 1
 5.00\n Munke Bjergby skole\, Veddevej 19\, 4190 Munke BjergbyTema: Oktobe
 rfest \nPris: 100kr\nTilmeldingsfrist: 15. december\nVi glæder os til at
  se jer alle sammen!\nDe bedste spejderhilsner fra\nAntvorskov Divisionsle
 delse\n
URL:https://klanklassik.dk/begivenhed/nytaarstaffel-2026
DTSTART:20260110T140000Z
DTEND:20260110T213000Z
LOCATION:Munkebjergby skole\, veddevej 19\, 4190 Munke Bjergby
END:VEVENT
BEGIN:VEVENT
UID:gruppeweb.dk:3319:event:82
DTSTAMP:20260423T084027Z
LAST-MODIFIED:20260103T083217Z
SUMMARY:God-bag-jul-møde
DESCRIPTION:Første Klanmøde i 2026.\n\nSe invitation og information på F
 acebook begivenheden\n\n
URL:https://klanklassik.dk/begivenhed/god-bag-jul-moede
DTSTART;VALUE=DATE:20260119
LOCATION:
END:VEVENT
BEGIN:VEVENT
UID:gruppeweb.dk:3319:event:81
DTSTAMP:20260423T084027Z
LAST-MODIFIED:20260103T083228Z
SUMMARY:Kyndelmisse
DESCRIPTION:Klan Klassik besøger Kyndelmisse i Sorø\n\nTilmelding og info
 rmation på Facebook begivenheden\n\n
URL:https://klanklassik.dk/begivenhed/kyndelmisse
DTSTART;VALUE=DATE:20260131
LOCATION:
END:VEVENT
BEGIN:VEVENT
UID:gruppeweb.dk:3319:event:88
DTSTAMP:20260423T084027Z
LAST-MODIFIED:20260116T171105Z
SUMMARY:Rådsmøde 2026
DESCRIPTION:Læs mere på hjemmesiden: https://klanklassik.dk/raadsmoede-2
 026 [1]\n\n\n[1] https://klanklassik.dk/raadsmoede-2026\n
URL:https://klanklassik.dk/begivenhed/raadsmoede-2026
DTSTART:20260205T173000Z
DTEND:20260205T193000Z
LOCATION:Kløverhuset\, Teglværksvej 11\, 4200 Slagelse
END:VEVENT
BEGIN:VEVENT
UID:gruppeweb.dk:3319:event:85
DTSTAMP:20260423T084027Z
LAST-MODIFIED:20260111T183412Z
SUMMARY:Tænkedag med Sorø Spejderne
DESCRIPTION:Program for dagen:\n\n10:00 Velkomst\n\n10:30 Løb\n\n11:30 Spi
 s din medbragte frokost\n\n12:00 Løb forsætter\n\n12:40 Løb slutter og 
 Tænkedag ceremoni starter\n\n\nHUSK:\n\nTøj efter vejret\n\nUniform og t
 ørklæde\n\n2 kr. pr. påbegyndt spejder år (doneres til tænkedagsfonde
 n)\n\n\nTilmelding senest den 15. februar via MS.\n\nVedhæftet denne tilm
 elding er invitationen fra KFUM spejderne i Dianalund\n\n
URL:https://klanklassik.dk/begivenhed/taenkedag-med-soroe-spejderne
DTSTART:20260222T090000Z
DTEND:20260222T120000Z
LOCATION:KFUM Dianalund\, Sømosevej 44\, 4293 Dianalund
END:VEVENT
BEGIN:VEVENT
UID:gruppeweb.dk:3319:event:80
DTSTAMP:20260423T084027Z
LAST-MODIFIED:20251129T074946Z
SUMMARY:Klan Klassik Løbet 2026
DESCRIPTION:Klan Klassik Løbet er et spejderløb\, der kombinerer klassisk
 e  \nspejderfærdigheder med spændende udfordringer. Uanset om du deltage
 r  \nsom en troppatrulje\, en seniorpatrulje eller en “Old Boys”-patr
 ulje\, kan  \ndu se frem til et døgn fyldt med samarbejde\, friluftsliv o
 g kreative  \nudfordringer.\n\nDu kan deltage i følgende kategorier:\n\n 
 * Trop: 3–5 spejdere i alderen 12–16 år\n   \n * Senior: 3–5 spejde
 re i alderen 16–24 år\n   \n * Old Boys: 3–5 spejdere\, 24+ år\n   \
 n\nTræk i vandrestøvlerne og kom ud i naturen\, hvor I undervejs vil lø
 se  \nopgaver\, der både tester jeres færdigheder og styrker samarbejdet
 . Det  \nforventes\, at du kan gå 25–30 km med oppakning.\n\nKlan Klass
 ik Løbet har særligt fokus på klassiske spejderdiscipliner som  \nknob 
 og båltænding – men vær forberedt på\, at der også dukker uventede 
  \nog kreative udfordringer op undervejs!\n\nHold øje med Facebook-siden 
 for løbende opdateringer. Der kan komme nye  \ndetaljer\, som gør Klan K
 lassik Løbet 2026 endnu mere mindeværdigt.\nEr du klar til at tage del i
  spejdereventyret?\n\nHar i spørgsmål til løbet så kontakt os endelig 
 på loebet@klanklassik.dk  \n[1]\n\n\n[1] mailto:loebet@klanklassik.dk\n
URL:https://klanklassik.dk/begivenhed/klan-klassik-loebet-2026
DTSTART;VALUE=DATE:20260228
DTEND;VALUE=DATE:20260302
LOCATION:
END:VEVENT
BEGIN:VEVENT
UID:gruppeweb.dk:3319:event:93
DTSTAMP:20260423T084027Z
LAST-MODIFIED:20260120T093515Z
SUMMARY:Klan møde - Aftenmøde
DESCRIPTION:Mere information tilgår\n\n
URL:https://klanklassik.dk/begivenhed/klan-moede-aftenmoede-0
DTSTART;VALUE=DATE:20260309
LOCATION:
END:VEVENT
BEGIN:VEVENT
UID:gruppeweb.dk:3319:event:92
DTSTAMP:20260423T084027Z
LAST-MODIFIED:20260120T092141Z
SUMMARY:Klan møde - Heldagsmøde
DESCRIPTION:\n
URL:https://klanklassik.dk/begivenhed/klan-moede-heldagsmoede-0
DTSTART;VALUE=DATE:20260419
LOCATION:
END:VEVENT
BEGIN:VEVENT
UID:gruppeweb.dk:3319:event:90
DTSTAMP:20260423T084027Z
LAST-MODIFIED:20260120T092639Z
SUMMARY:Klan møde - Aftenmøde
DESCRIPTION:Vi skal kigge på Grej og Spejdernes lejr.\n\nMere info tilgår
 \n\n
URL:https://klanklassik.dk/begivenhed/klan-moede-aftenmoede
DTSTART;VALUE=DATE:20260505
LOCATION:
END:VEVENT
BEGIN:VEVENT
UID:gruppeweb.dk:3319:event:89
DTSTAMP:20260423T084027Z
LAST-MODIFIED:20260120T092635Z
SUMMARY:Klan møde - Heldagsmøde
DESCRIPTION:\n
URL:https://klanklassik.dk/begivenhed/klan-moede-heldagsmoede
DTSTART;VALUE=DATE:20260614
LOCATION:
END:VEVENT
BEGIN:VEVENT
UID:gruppeweb.dk:3319:event:75
DTSTAMP:20260423T084027Z
LAST-MODIFIED:20260216T054232Z
SUMMARY:Spejdernes Lejr 2026
DESCRIPTION:Så er det nu du skal tilmelde dig!\n\nVi skal afsted på SL26 
 og det bliver fedt. Vi skal bo sammen med vores  \nspejdervenner i Sorø K
 ommune og så skal vi på rigtig spejderlejr denne  \ngang.\nUd og opleve 
 lejren\, aktiviteterne\, fællesskabet og meget mere. \n\nStart og slutti
 dspunkter bliver meldt ud til deltagerne\, når vi kommer  \ntættere på.
  Vi deltager på fuld lejr\n\nDet med betaling:\nFor at få tilmeldingerne
  hurtigt i hus\, så er der to deltagerpriser. Prisen  \nstiger i februar.
 \nDeltog du på Dyrskue i sommeren 2025? Så husk at krydse det af\, så d
 u kan  \nfå en god rabat :)\n\nPris for deltagelse\nTilmelding før 15. f
 ebruar:\nFuld lejr: 2400 kroner. Deltagere på Dyrskue: 1100 kroner.\nTilm
 elding efter 15. februar: \nFuld Lejr: 2600 kroner. Deltagere på Dyrskue
 : 1300 kroner.\n\nVigtigt: Så mange som muligt skal tilmelde sig før den
  15. februar\, da  \nvores lejrpladsareal bliver fordelt efter dette antal
 .\n\nSpørgsmål om Klan Klassik deltagelse kan stilles på kfn@klanklassi
 k.dk\n\n
URL:https://klanklassik.dk/begivenhed/spejdernes-lejr-2026
DTSTART:20260718T080000Z
DTEND:20260726T120000Z
LOCATION:Klan Klassik\, Holmevejen 4\, 4293 Dianalund
END:VEVENT
BEGIN:VEVENT
UID:gruppeweb.dk:3319:event:86
DTSTAMP:20260423T084027Z
LAST-MODIFIED:20260117T111016Z
SUMMARY:Nathejk med Klan Klassik
DESCRIPTION:Vi deltager på Nathejk\, mere info tilgår\n\n
URL:https://klanklassik.dk/begivenhed/nathejk-med-klan-klassik
DTSTART;VALUE=DATE:20260918
DTEND;VALUE=DATE:20260921
LOCATION:
END:VEVENT
END:VCALENDAR
